data_


_diffrn_radiation_type   synchrotron
#Added by publCIF




_diffrn_radiation_wavelength   0.7095
#Added by publCIF




_cell_formula_units_Z   2
#Added by publCIF




_cell_measurement_temperature   293
#Added by publCIF




_symmetry_cell_setting   cubic
#Added by publCIF




_chemical_formula_weight   166.62
#Added by publCIF




_chemical_formula_iupac   Na4(B11H14)(B12H12)
#Added by publCIF



_publ_section_related_literature ?

_publ_contact_author_name 'Arndt Remhof'

_publ_contact_letter 
;
Please consider this CIF for publication. I certify that this contibution is the
original work of those listed as authors; that it has not been published
before (in any language or medium) and is not being considered for publication
elsewhere; that all authors concur with and are aware of the submission; that
all workers involved in the study are listed as authors or given proper credit
in the acknowledgements; that I have obtained permission for and acknowledged
the source of any excerpts from other copyright works; and that to the best of
my knowledge the paper contains no statements which are libellous, unlawful or
in any way actionable. All coauthors have made significant scientific
contributions to the work reported, including the ideas and their execution,
and share responsibility and accountability for the results.
;


_publ_requested_category ?

_publ_requested_journal 'Chemistry of Materials'

_publ_contact_author_fax ?

_publ_contact_author_phone '+41 58 765 4369'

_publ_contact_author_email 'Arndt.Remhof@empa.ch'

_publ_contact_author_address

;
Empa, Swiss Federal Laboratories for Materials Science and Technology, 8600 Dübendorf, Switzerland.
;


# Loop of author details

loop_
_publ_author_name
_publ_author_address
_publ_author_footnote
_publ_author_email
'Payandeh, SeyedHosein'
;
Empa, Swiss Federal Laboratories for Materials Science and Technology, 8600
Dübendorf, Switzerland.
;
.
;
a.payande88@gmail.com, seyedhosein.payandeh@empa.ch
;
'Asakura, Ryo'
;
Empa, Swiss Federal Laboratories for Materials Science and Technology, 8600
Dübendorf, Switzerland
;
.
;
ryo.asakura@empa.ch
;
'Avramidou, Petroula'
;
Empa, Swiss Federal Laboratories for Materials Science and Technology, 8600
Dübendorf, Switzerland
;
.
;
petroula.avramidou@empa.ch
;
'Rentsch, Daniel'
;
Empa, Swiss Federal Laboratories for Materials Science and Technology, 8600
Dübendorf, Switzerland.
;
.
;
Daniel.Rentsch@empa.ch
;
'Lodziana, Zbigniew'
;
Polish Academy of Sciences, Institute of Nuclear Physics, ul, Radzikowskiego
152, 31-342, Kraków, Poland.
;
.
;
zbigniew.lodziana@ifj.edu.pl
;
'Cerný, Radovan'
;
Laboratory of Crystallography, Department of Quantum Matter Physics, University
of Geneva, Quai Ernest-Ansermet 24, 1211, Geneva, Switzerland
;
.
;
Radovan.Cerny@unige.ch
;
'Remhof, Arndt'
;
Empa, Swiss Federal Laboratories for Materials Science and Technology, 8600
Dübendorf, Switzerland.
;
.
;
Arndt.Remhof@empa.ch
;
'Battaglia, Corsin'
;
Empa, Swiss Federal Laboratories for Materials Science and Technology, 8600
Dübendorf, Switzerland.
;
.
;
corsin.battaglia@empa.ch
;




_publ_section_abstract
;
?
;


_publ_section_title
;
Nido-Borate-Based Electrolytes for All-Solid-State Batteries
;
#Added by publCIF



_audit_update_record
;
2019-09-21 # Formatted by publCIF

;
_publcif_datablock.id '{02019611-a062-4404-9259-2097f39278eb}'
loop_
_publcif_info_datablock.id
_publcif_info_datablock.publ_exptl
_publcif_info_datablock.publ_geom
_publcif_info_datablock.structure
'{02019611-a062-4404-9259-2097f39278eb}' y y y

_publ_section_exptl_refinement
;
(type here to add)
;

_publ_section_exptl_prep
;
(type here to add)
;

_publ_manuscript_text
;
(type here to add)
;
_chemical_name_mineral ?Na4(B11H14)2(B12H12)?
_cell_length_a 7.916252
_cell_length_b 7.916252
_cell_length_c 7.916252
_cell_angle_alpha 90
_cell_angle_beta 90
_cell_angle_gamma 90
_cell_volume 496.088126
_symmetry_space_group_name_H-M 'I m -3 m' m -3 m
loop_
	_symmetry_equiv_pos_as_xyz
	 'x, y, z '
	 '-x, -y, z '
	 '-x, -z, -y '
	 '-x, -z, y '
	 '-x, z, -y '
	 '-x, z, y '
	 '-x, y, -z '
	 '-x, y, z '
	 '-y, -x, -z '
	 '-y, -x, z '
	 '-y, -z, -x '
	 '-y, -z, x '
	 '-y, z, -x '
	 '-y, z, x '
	 '-y, x, -z '
	 '-y, x, z '
	 '-z, -x, -y '
	 '-z, -x, y '
	 '-z, -y, -x '
	 '-z, -y, x '
	 '-z, y, -x '
	 '-z, y, x '
	 '-z, x, -y '
	 '-z, x, y '
	 'z, -x, -y '
	 'z, -x, y '
	 'z, -y, -x '
	 'z, -y, x '
	 'z, y, -x '
	 'z, y, x '
	 'z, x, -y '
	 'z, x, y '
	 'y, -x, -z '
	 'y, -x, z '
	 'y, -z, -x '
	 'y, -z, x '
	 'y, z, -x '
	 'y, z, x '
	 'y, x, -z '
	 'y, x, z '
	 'x, -y, -z '
	 'x, -y, z '
	 'x, -z, -y '
	 'x, -z, y '
	 'x, z, -y '
	 'x, z, y '
	 'x, y, -z '
	 '-x, -y, -z '
	 'x+1/2, y+1/2, z+1/2 '
	 '-x+1/2, -y+1/2, z+1/2 '
	 '-x+1/2, -z+1/2, -y+1/2 '
	 '-x+1/2, -z+1/2, y+1/2 '
	 '-x+1/2, z+1/2, -y+1/2 '
	 '-x+1/2, z+1/2, y+1/2 '
	 '-x+1/2, y+1/2, -z+1/2 '
	 '-x+1/2, y+1/2, z+1/2 '
	 '-y+1/2, -x+1/2, -z+1/2 '
	 '-y+1/2, -x+1/2, z+1/2 '
	 '-y+1/2, -z+1/2, -x+1/2 '
	 '-y+1/2, -z+1/2, x+1/2 '
	 '-y+1/2, z+1/2, -x+1/2 '
	 '-y+1/2, z+1/2, x+1/2 '
	 '-y+1/2, x+1/2, -z+1/2 '
	 '-y+1/2, x+1/2, z+1/2 '
	 '-z+1/2, -x+1/2, -y+1/2 '
	 '-z+1/2, -x+1/2, y+1/2 '
	 '-z+1/2, -y+1/2, -x+1/2 '
	 '-z+1/2, -y+1/2, x+1/2 '
	 '-z+1/2, y+1/2, -x+1/2 '
	 '-z+1/2, y+1/2, x+1/2 '
	 '-z+1/2, x+1/2, -y+1/2 '
	 '-z+1/2, x+1/2, y+1/2 '
	 'z+1/2, -x+1/2, -y+1/2 '
	 'z+1/2, -x+1/2, y+1/2 '
	 'z+1/2, -y+1/2, -x+1/2 '
	 'z+1/2, -y+1/2, x+1/2 '
	 'z+1/2, y+1/2, -x+1/2 '
	 'z+1/2, y+1/2, x+1/2 '
	 'z+1/2, x+1/2, -y+1/2 '
	 'z+1/2, x+1/2, y+1/2 '
	 'y+1/2, -x+1/2, -z+1/2 '
	 'y+1/2, -x+1/2, z+1/2 '
	 'y+1/2, -z+1/2, -x+1/2 '
	 'y+1/2, -z+1/2, x+1/2 '
	 'y+1/2, z+1/2, -x+1/2 '
	 'y+1/2, z+1/2, x+1/2 '
	 'y+1/2, x+1/2, -z+1/2 '
	 'y+1/2, x+1/2, z+1/2 '
	 'x+1/2, -y+1/2, -z+1/2 '
	 'x+1/2, -y+1/2, z+1/2 '
	 'x+1/2, -z+1/2, -y+1/2 '
	 'x+1/2, -z+1/2, y+1/2 '
	 'x+1/2, z+1/2, -y+1/2 '
	 'x+1/2, z+1/2, y+1/2 '
	 'x+1/2, y+1/2, -z+1/2 '
	 '-x+1/2, -y+1/2, -z+1/2 '
loop_
_atom_site_label
_atom_site_type_symbol
_atom_site_symmetry_multiplicity
_atom_site_fract_x
_atom_site_fract_y
_atom_site_fract_z
_atom_site_occupancy
_atom_site_B_iso_or_equiv
B11 B  96 -0.072(11) -0.199(4) -0.0520(3) 0.020833 11.0(4)
H12 H  96 -0.120(19) -0.332(7) -0.0870(6) 0.020833 11.0(4)
B13 B  96 0.148(8) -0.160(8) -0.001(3) 0.020833 11.0(4)
H14 H  96 0.247(14) -0.267(13) -0.002(4) 0.020833 11.0(4)
B15 B  96 0.199(2) 0.053(10) -0.069(2) 0.020833 11.0(4)
H16 H  96 0.334(3) 0.088(17) -0.116(3) 0.020833 11.0(4)
B17 B  96 0.072(11) 0.199(4) 0.0520(3) 0.020833 11.0(4)
H18 H  96 0.120(19) 0.332(7) 0.0870(6) 0.020833 11.0(4)
B19 B  96 -0.199(2) -0.052(10) 0.069(2) 0.020833 11.0(4)
H110 H  96 -0.334(3) -0.088(17) 0.116(3) 0.020833 11.0(4)
B111 B  96 -0.148(8) 0.160(8) 0.001(3) 0.020833 11.0(4)
H112 H  96 -0.247(14) 0.267(13) 0.002(4) 0.020833 11.0(4)
B113 B  96 0.156(2) 0.010(9) 0.1510(18) 0.020833 11.0(4)
H114 H  96 0.098(11) -0.129(3) -0.3264(19) 0.020833 11.0(4)
B115 B  96 -0.012(6) -0.1446(4) 0.1620(7) 0.020833 11.0(4)
H116 H  96 -0.261(4) -0.018(15) -0.253(3) 0.020833 11.0(4)
B117 B  96 -0.058(6) 0.077(2) 0.1951(11) 0.020833 11.0(4)
H118 H  96 0.019(10) 0.2421(6) -0.2714(12) 0.020833 11.0(4)
B119 B  96 0.012(6) 0.1447(4) -0.1621(7) 0.020833 11.0(4)
H120 H  96 -0.020(10) -0.2421(6) 0.2712(12) 0.020833 11.0(4)
B121 B  96 0.058(6) -0.077(2) -0.1950(11) 0.020833 11.0(4)
H122 H  96 -0.098(11) 0.128(3) 0.3265(19) 0.020833 11.0(4)
B123 B  96 -0.156(2) -0.011(9) -0.1513(18) 0.006944333 11.0(4)
H124 H  96 0.261(4) 0.018(15) 0.253(3) 0.020833 11.0(4)
Na Na  48 0.1617(8) 0.9204(8) 0.5 0.0555 0.1(4)
loop_
_publcif_info_datablock.id
_publcif_info_datablock.publ_exptl
_publcif_info_datablock.publ_geom
_publcif_info_datablock.structure

 {02019611-a062-4404-9259-2097f39278eb} y y y
loop_
_publcif_info_exptl_table_extra_item
?
loop_
_publcif_info_exptl_table_extra_item

 ?
loop_
_publcif_info_exptl_table_header_item
?
loop_
_publcif_info_exptl_table_header_item

 ?
_publcif_info_exptl_table_max_cols 4
_publcif_info_exptl_table_use_headnotes n
loop_
_publcif_info_tables.block_id
_publcif_info_tables.reference_item
"{02019611-a062-4404-9259-2097f39278eb}" "_publcif_info_datablock.publ_exptl"


loop_
_publcif_info_tables.block_id
_publcif_info_tables.reference_item

 {02019611-a062-4404-9259-2097f39278eb} '_publcif_info_datablock.publ_exptl'
loop_
_publcif_info_cif.paper_type
 EX
loop_
_publcif_info_cif.paper_type

 EX



_publcif_funding_html
;
;
